BEGIN:VCALENDAR
VERSION:2.0
PRODID:-//BizCamp - ECPv6.2.4//NONSGML v1.0//EN
CALSCALE:GREGORIAN
METHOD:PUBLISH
X-WR-CALNAME:BizCamp
X-ORIGINAL-URL:http://bizcampblog.com
X-WR-CALDESC:BizCamp のイベント
REFRESH-INTERVAL;VALUE=DURATION:PT1H
X-Robots-Tag:noindex
X-PUBLISHED-TTL:PT1H
BEGIN:VTIMEZONE
TZID:Asia/Tokyo
BEGIN:STANDARD
TZOFFSETFROM:+0900
TZOFFSETTO:+0900
TZNAME:JST
DTSTART:20230101T000000
END:STANDARD
END:VTIMEZONE
BEGIN:VEVENT
DTSTART;TZID=Asia/Tokyo:20230711T200000
DTEND;TZID=Asia/Tokyo:20230712T000000
DTSTAMP:20260423T172114
CREATED:20230603T105845Z
LAST-MODIFIED:20230603T105845Z
UID:1775-1689105600-1689120000@bizcampblog.com
SUMMARY:ZOOMコンサルティング実施日
DESCRIPTION:
URL:http://bizcampblog.com/event/zoom%e3%82%b3%e3%83%b3%e3%82%b5%e3%83%ab%e3%83%86%e3%82%a3%e3%83%b3%e3%82%b0%e5%ae%9f%e6%96%bd%e6%97%a5-45/
END:VEVENT
END:VCALENDAR