BEGIN:VCALENDAR
VERSION:2.0
PRODID:-//BizCamp - ECPv6.2.4//NONSGML v1.0//EN
CALSCALE:GREGORIAN
METHOD:PUBLISH
X-ORIGINAL-URL:http://bizcampblog.com
X-WR-CALDESC:BizCamp のイベント
REFRESH-INTERVAL;VALUE=DURATION:PT1H
X-Robots-Tag:noindex
X-PUBLISHED-TTL:PT1H
BEGIN:VTIMEZONE
TZID:Asia/Tokyo
BEGIN:STANDARD
TZOFFSETFROM:+0900
TZOFFSETTO:+0900
TZNAME:JST
DTSTART:20230101T000000
END:STANDARD
END:VTIMEZONE
BEGIN:VEVENT
DTSTART;TZID=Asia/Tokyo:20230211T180000
DTEND;TZID=Asia/Tokyo:20230211T210000
DTSTAMP:20260424T061543
CREATED:20230123T134949Z
LAST-MODIFIED:20230123T134949Z
UID:1657-1676138400-1676149200@bizcampblog.com
SUMMARY:Zoomウェビナー（情報発信におけるシナリオ構築力養成セミナー　講師：玉井・フリスク）
DESCRIPTION:
URL:http://bizcampblog.com/event/zoom%e3%82%a6%e3%82%a7%e3%83%93%e3%83%8a%e3%83%bc%ef%bc%88%e6%83%85%e5%a0%b1%e7%99%ba%e4%bf%a1%e3%81%ab%e3%81%8a%e3%81%91%e3%82%8b%e3%82%b7%e3%83%8a%e3%83%aa%e3%82%aa%e6%a7%8b%e7%af%89%e5%8a%9b/
END:VEVENT
END:VCALENDAR