BEGIN:VCALENDAR
VERSION:2.0
PRODID:-//BizCamp - ECPv6.2.4//NONSGML v1.0//EN
CALSCALE:GREGORIAN
METHOD:PUBLISH
X-WR-CALNAME:BizCamp
X-ORIGINAL-URL:http://bizcampblog.com
X-WR-CALDESC:BizCamp のイベント
REFRESH-INTERVAL;VALUE=DURATION:PT1H
X-Robots-Tag:noindex
X-PUBLISHED-TTL:PT1H
BEGIN:VTIMEZONE
TZID:Asia/Tokyo
BEGIN:STANDARD
TZOFFSETFROM:+0900
TZOFFSETTO:+0900
TZNAME:JST
DTSTART:20220101T000000
END:STANDARD
END:VTIMEZONE
BEGIN:VEVENT
DTSTART;TZID=Asia/Tokyo:20221124T200000
DTEND;TZID=Asia/Tokyo:20221125T000500
DTSTAMP:20260424T152556
CREATED:20220927T094209Z
LAST-MODIFIED:20220927T094228Z
UID:1530-1669320000-1669334700@bizcampblog.com
SUMMARY:ZOOMコンサルティング実施日
DESCRIPTION:
URL:http://bizcampblog.com/event/20221124/
END:VEVENT
END:VCALENDAR