BEGIN:VCALENDAR
VERSION:2.0
PRODID:-//BizCamp - ECPv6.2.4//NONSGML v1.0//EN
CALSCALE:GREGORIAN
METHOD:PUBLISH
X-WR-CALNAME:BizCamp
X-ORIGINAL-URL:http://bizcampblog.com
X-WR-CALDESC:BizCamp のイベント
REFRESH-INTERVAL;VALUE=DURATION:PT1H
X-Robots-Tag:noindex
X-PUBLISHED-TTL:PT1H
BEGIN:VTIMEZONE
TZID:Asia/Tokyo
BEGIN:STANDARD
TZOFFSETFROM:+0900
TZOFFSETTO:+0900
TZNAME:JST
DTSTART:20220101T000000
END:STANDARD
END:VTIMEZONE
BEGIN:VEVENT
DTSTART;TZID=Asia/Tokyo:20221008T180000
DTEND;TZID=Asia/Tokyo:20221008T210000
DTSTAMP:20260424T170106
CREATED:20220927T100247Z
LAST-MODIFIED:20220927T100247Z
UID:1560-1665252000-1665262800@bizcampblog.com
SUMMARY:Instagramゼロイチウェビナー
DESCRIPTION:
URL:http://bizcampblog.com/event/instagram%e3%82%bc%e3%83%ad%e3%82%a4%e3%83%81%e3%82%a6%e3%82%a7%e3%83%93%e3%83%8a%e3%83%bc/
END:VEVENT
END:VCALENDAR