BEGIN:VCALENDAR
VERSION:2.0
PRODID:-//BizCamp - ECPv6.2.4//NONSGML v1.0//EN
CALSCALE:GREGORIAN
METHOD:PUBLISH
X-ORIGINAL-URL:http://bizcampblog.com
X-WR-CALDESC:BizCamp のイベント
REFRESH-INTERVAL;VALUE=DURATION:PT1H
X-Robots-Tag:noindex
X-PUBLISHED-TTL:PT1H
BEGIN:VTIMEZONE
TZID:Asia/Tokyo
BEGIN:STANDARD
TZOFFSETFROM:+0900
TZOFFSETTO:+0900
TZNAME:JST
DTSTART:20230101T000000
END:STANDARD
END:VTIMEZONE
BEGIN:VEVENT
DTSTART;TZID=Asia/Tokyo:20231201T200000
DTEND;TZID=Asia/Tokyo:20231202T000000
DTSTAMP:20260423T071623
CREATED:20231021T002201Z
LAST-MODIFIED:20231021T002201Z
UID:1890-1701460800-1701475200@bizcampblog.com
SUMMARY:ZOOM個別コンサルティング実施日
DESCRIPTION:
URL:http://bizcampblog.com/event/zoom%e5%80%8b%e5%88%a5%e3%82%b3%e3%83%b3%e3%82%b5%e3%83%ab%e3%83%86%e3%82%a3%e3%83%b3%e3%82%b0%e5%ae%9f%e6%96%bd%e6%97%a5-6/
END:VEVENT
BEGIN:VEVENT
DTSTART;TZID=Asia/Tokyo:20231204T200000
DTEND;TZID=Asia/Tokyo:20231205T000000
DTSTAMP:20260423T071623
CREATED:20231114T060510Z
LAST-MODIFIED:20231114T060510Z
UID:1904-1701720000-1701734400@bizcampblog.com
SUMMARY:ZOOMコンサルティング実施日
DESCRIPTION:
URL:http://bizcampblog.com/event/zoom%e3%82%b3%e3%83%b3%e3%82%b5%e3%83%ab%e3%83%86%e3%82%a3%e3%83%b3%e3%82%b0%e5%ae%9f%e6%96%bd%e6%97%a5-65/
END:VEVENT
BEGIN:VEVENT
DTSTART;TZID=Asia/Tokyo:20231207T200000
DTEND;TZID=Asia/Tokyo:20231207T230000
DTSTAMP:20260423T071623
CREATED:20231114T061259Z
LAST-MODIFIED:20231114T061259Z
UID:1914-1701979200-1701990000@bizcampblog.com
SUMMARY:ZOOMグループセッション実施日
DESCRIPTION:
URL:http://bizcampblog.com/event/zoom%e3%82%b0%e3%83%ab%e3%83%bc%e3%83%97%e3%82%bb%e3%83%83%e3%82%b7%e3%83%a7%e3%83%b3%e5%ae%9f%e6%96%bd%e6%97%a5-23/
END:VEVENT
BEGIN:VEVENT
DTSTART;TZID=Asia/Tokyo:20231209T180000
DTEND;TZID=Asia/Tokyo:20231209T210000
DTSTAMP:20260423T071623
CREATED:20231114T061806Z
LAST-MODIFIED:20231114T061806Z
UID:1920-1702144800-1702155600@bizcampblog.com
SUMMARY:Zoomウェビナー
DESCRIPTION:
URL:http://bizcampblog.com/event/zoom%e3%82%a6%e3%82%a7%e3%83%93%e3%83%8a%e3%83%bc-8/
END:VEVENT
BEGIN:VEVENT
DTSTART;TZID=Asia/Tokyo:20231211T200000
DTEND;TZID=Asia/Tokyo:20231212T000000
DTSTAMP:20260423T071623
CREATED:20231114T060630Z
LAST-MODIFIED:20231114T060630Z
UID:1906-1702324800-1702339200@bizcampblog.com
SUMMARY:ZOOMコンサルティング実施日
DESCRIPTION:
URL:http://bizcampblog.com/event/zoom%e3%82%b3%e3%83%b3%e3%82%b5%e3%83%ab%e3%83%86%e3%82%a3%e3%83%b3%e3%82%b0%e5%ae%9f%e6%96%bd%e6%97%a5-66/
END:VEVENT
BEGIN:VEVENT
DTSTART;TZID=Asia/Tokyo:20231212T200000
DTEND;TZID=Asia/Tokyo:20231213T000000
DTSTAMP:20260423T071623
CREATED:20231114T060658Z
LAST-MODIFIED:20231114T060658Z
UID:1908-1702411200-1702425600@bizcampblog.com
SUMMARY:ZOOMコンサルティング実施日
DESCRIPTION:
URL:http://bizcampblog.com/event/zoom%e3%82%b3%e3%83%b3%e3%82%b5%e3%83%ab%e3%83%86%e3%82%a3%e3%83%b3%e3%82%b0%e5%ae%9f%e6%96%bd%e6%97%a5-67/
END:VEVENT
BEGIN:VEVENT
DTSTART;TZID=Asia/Tokyo:20231221T200000
DTEND;TZID=Asia/Tokyo:20231221T230000
DTSTAMP:20260423T071623
CREATED:20231114T061359Z
LAST-MODIFIED:20231114T061359Z
UID:1916-1703188800-1703199600@bizcampblog.com
SUMMARY:ZOOMグループセッション実施日
DESCRIPTION:
URL:http://bizcampblog.com/event/zoom%e3%82%b0%e3%83%ab%e3%83%bc%e3%83%97%e3%82%bb%e3%83%83%e3%82%b7%e3%83%a7%e3%83%b3%e5%ae%9f%e6%96%bd%e6%97%a5-24/
END:VEVENT
BEGIN:VEVENT
DTSTART;TZID=Asia/Tokyo:20231223T140000
DTEND;TZID=Asia/Tokyo:20231223T210000
DTSTAMP:20260423T071623
CREATED:20231114T061636Z
LAST-MODIFIED:20231114T061636Z
UID:1918-1703340000-1703365200@bizcampblog.com
SUMMARY:オフライン勉強会・座談会・懇親会
DESCRIPTION:
URL:http://bizcampblog.com/event/%e3%82%aa%e3%83%95%e3%83%a9%e3%82%a4%e3%83%b3%e5%8b%89%e5%bc%b7%e4%bc%9a%e3%83%bb%e5%ba%a7%e8%ab%87%e4%bc%9a%e3%83%bb%e6%87%87%e8%a6%aa%e4%bc%9a-11/
END:VEVENT
BEGIN:VEVENT
DTSTART;TZID=Asia/Tokyo:20231226T200000
DTEND;TZID=Asia/Tokyo:20231227T000000
DTSTAMP:20260423T071623
CREATED:20231114T060837Z
LAST-MODIFIED:20231114T060837Z
UID:1910-1703620800-1703635200@bizcampblog.com
SUMMARY:ZOOMコンサルティング実施日
DESCRIPTION:
URL:http://bizcampblog.com/event/zoom%e3%82%b3%e3%83%b3%e3%82%b5%e3%83%ab%e3%83%86%e3%82%a3%e3%83%b3%e3%82%b0%e5%ae%9f%e6%96%bd%e6%97%a5-68/
END:VEVENT
END:VCALENDAR