BEGIN:VCALENDAR
VERSION:2.0
PRODID:-//BizCamp - ECPv6.2.4//NONSGML v1.0//EN
CALSCALE:GREGORIAN
METHOD:PUBLISH
X-ORIGINAL-URL:http://bizcampblog.com
X-WR-CALDESC:BizCamp のイベント
REFRESH-INTERVAL;VALUE=DURATION:PT1H
X-Robots-Tag:noindex
X-PUBLISHED-TTL:PT1H
BEGIN:VTIMEZONE
TZID:Asia/Tokyo
BEGIN:STANDARD
TZOFFSETFROM:+0900
TZOFFSETTO:+0900
TZNAME:JST
DTSTART:20230101T000000
END:STANDARD
END:VTIMEZONE
BEGIN:VEVENT
DTSTART;TZID=Asia/Tokyo:20231001T200000
DTEND;TZID=Asia/Tokyo:20231002T000000
DTSTAMP:20260423T102629
CREATED:20230810T100942Z
LAST-MODIFIED:20230917T044037Z
UID:1839-1696190400-1696204800@bizcampblog.com
SUMMARY:ZOOMコンサルティング実施日
DESCRIPTION:
URL:http://bizcampblog.com/event/zoom%e3%82%b3%e3%83%b3%e3%82%b5%e3%83%ab%e3%83%86%e3%82%a3%e3%83%b3%e3%82%b0%e5%ae%9f%e6%96%bd%e6%97%a5-59/
END:VEVENT
BEGIN:VEVENT
DTSTART;TZID=Asia/Tokyo:20231005T200000
DTEND;TZID=Asia/Tokyo:20231005T230000
DTSTAMP:20260423T102629
CREATED:20230917T044509Z
LAST-MODIFIED:20230917T044537Z
UID:1863-1696536000-1696546800@bizcampblog.com
SUMMARY:ZOOMグループセッション実施日
DESCRIPTION:
URL:http://bizcampblog.com/event/zoom%e3%82%b0%e3%83%ab%e3%83%bc%e3%83%97%e3%82%bb%e3%83%83%e3%82%b7%e3%83%a7%e3%83%b3%e5%ae%9f%e6%96%bd%e6%97%a5-19/
END:VEVENT
BEGIN:VEVENT
DTSTART;TZID=Asia/Tokyo:20231010T200000
DTEND;TZID=Asia/Tokyo:20231011T000000
DTSTAMP:20260423T102629
CREATED:20230917T044115Z
LAST-MODIFIED:20230917T044115Z
UID:1853-1696968000-1696982400@bizcampblog.com
SUMMARY:ZOOMコンサルティング実施日
DESCRIPTION:
URL:http://bizcampblog.com/event/zoom%e3%82%b3%e3%83%b3%e3%82%b5%e3%83%ab%e3%83%86%e3%82%a3%e3%83%b3%e3%82%b0%e5%ae%9f%e6%96%bd%e6%97%a5-60/
END:VEVENT
BEGIN:VEVENT
DTSTART;TZID=Asia/Tokyo:20231014T180000
DTEND;TZID=Asia/Tokyo:20231014T210000
DTSTAMP:20260423T102629
CREATED:20230917T045119Z
LAST-MODIFIED:20230917T045119Z
UID:1867-1697306400-1697317200@bizcampblog.com
SUMMARY:Zoomウェビナー
DESCRIPTION:
URL:http://bizcampblog.com/event/zoom%e3%82%a6%e3%82%a7%e3%83%93%e3%83%8a%e3%83%bc-6/
END:VEVENT
BEGIN:VEVENT
DTSTART;TZID=Asia/Tokyo:20231017T200000
DTEND;TZID=Asia/Tokyo:20231018T000000
DTSTAMP:20260423T102629
CREATED:20230917T044148Z
LAST-MODIFIED:20230917T044148Z
UID:1855-1697572800-1697587200@bizcampblog.com
SUMMARY:ZOOMコンサルティング実施日
DESCRIPTION:
URL:http://bizcampblog.com/event/zoom%e3%82%b3%e3%83%b3%e3%82%b5%e3%83%ab%e3%83%86%e3%82%a3%e3%83%b3%e3%82%b0%e5%ae%9f%e6%96%bd%e6%97%a5-61/
END:VEVENT
BEGIN:VEVENT
DTSTART;TZID=Asia/Tokyo:20231020T140000
DTEND;TZID=Asia/Tokyo:20231020T180000
DTSTAMP:20260423T102629
CREATED:20230917T044236Z
LAST-MODIFIED:20230917T045420Z
UID:1857-1697810400-1697824800@bizcampblog.com
SUMMARY:ZOOMコンサルティング実施日
DESCRIPTION:
URL:http://bizcampblog.com/event/zoom%e3%82%b3%e3%83%b3%e3%82%b5%e3%83%ab%e3%83%86%e3%82%a3%e3%83%b3%e3%82%b0%e5%ae%9f%e6%96%bd%e6%97%a5-62/
END:VEVENT
BEGIN:VEVENT
DTSTART;TZID=Asia/Tokyo:20231023T200000
DTEND;TZID=Asia/Tokyo:20231024T000000
DTSTAMP:20260423T102629
CREATED:20230917T044304Z
LAST-MODIFIED:20230917T044304Z
UID:1859-1698091200-1698105600@bizcampblog.com
SUMMARY:ZOOMコンサルティング実施日
DESCRIPTION:
URL:http://bizcampblog.com/event/zoom%e3%82%b3%e3%83%b3%e3%82%b5%e3%83%ab%e3%83%86%e3%82%a3%e3%83%b3%e3%82%b0%e5%ae%9f%e6%96%bd%e6%97%a5-63/
END:VEVENT
BEGIN:VEVENT
DTSTART;TZID=Asia/Tokyo:20231026T020000
DTEND;TZID=Asia/Tokyo:20231026T170000
DTSTAMP:20260423T102629
CREATED:20230917T044632Z
LAST-MODIFIED:20230917T045517Z
UID:1865-1698285600-1698339600@bizcampblog.com
SUMMARY:ZOOMグループセッション実施日
DESCRIPTION:
URL:http://bizcampblog.com/event/zoom%e3%82%b0%e3%83%ab%e3%83%bc%e3%83%97%e3%82%bb%e3%83%83%e3%82%b7%e3%83%a7%e3%83%b3%e5%ae%9f%e6%96%bd%e6%97%a5-20/
END:VEVENT
BEGIN:VEVENT
DTSTART;TZID=Asia/Tokyo:20231028T140000
DTEND;TZID=Asia/Tokyo:20231028T210000
DTSTAMP:20260423T102629
CREATED:20230917T045310Z
LAST-MODIFIED:20230917T045310Z
UID:1869-1698501600-1698526800@bizcampblog.com
SUMMARY:オフライン勉強会・座談会・懇親会
DESCRIPTION:
URL:http://bizcampblog.com/event/%e3%82%aa%e3%83%95%e3%83%a9%e3%82%a4%e3%83%b3%e5%8b%89%e5%bc%b7%e4%bc%9a%e3%83%bb%e5%ba%a7%e8%ab%87%e4%bc%9a%e3%83%bb%e6%87%87%e8%a6%aa%e4%bc%9a-9/
END:VEVENT
BEGIN:VEVENT
DTSTART;TZID=Asia/Tokyo:20231031T200000
DTEND;TZID=Asia/Tokyo:20231101T000000
DTSTAMP:20260423T102629
CREATED:20230917T044337Z
LAST-MODIFIED:20230917T044337Z
UID:1861-1698782400-1698796800@bizcampblog.com
SUMMARY:ZOOMコンサルティング実施日
DESCRIPTION:
URL:http://bizcampblog.com/event/zoom%e3%82%b3%e3%83%b3%e3%82%b5%e3%83%ab%e3%83%86%e3%82%a3%e3%83%b3%e3%82%b0%e5%ae%9f%e6%96%bd%e6%97%a5-64/
END:VEVENT
END:VCALENDAR