BEGIN:VCALENDAR
VERSION:2.0
PRODID:-//BizCamp - ECPv6.2.4//NONSGML v1.0//EN
CALSCALE:GREGORIAN
METHOD:PUBLISH
X-ORIGINAL-URL:http://bizcampblog.com
X-WR-CALDESC:BizCamp のイベント
REFRESH-INTERVAL;VALUE=DURATION:PT1H
X-Robots-Tag:noindex
X-PUBLISHED-TTL:PT1H
BEGIN:VTIMEZONE
TZID:Asia/Tokyo
BEGIN:STANDARD
TZOFFSETFROM:+0900
TZOFFSETTO:+0900
TZNAME:JST
DTSTART:20230101T000000
END:STANDARD
END:VTIMEZONE
BEGIN:VEVENT
DTSTART;TZID=Asia/Tokyo:20230902T140000
DTEND;TZID=Asia/Tokyo:20230902T180000
DTSTAMP:20260423T134353
CREATED:20230810T100631Z
LAST-MODIFIED:20230810T100631Z
UID:1831-1693663200-1693677600@bizcampblog.com
SUMMARY:ZOOMコンサルティング実施日
DESCRIPTION:
URL:http://bizcampblog.com/event/zoom%e3%82%b3%e3%83%b3%e3%82%b5%e3%83%ab%e3%83%86%e3%82%a3%e3%83%b3%e3%82%b0%e5%ae%9f%e6%96%bd%e6%97%a5-55/
END:VEVENT
BEGIN:VEVENT
DTSTART;TZID=Asia/Tokyo:20230906T200000
DTEND;TZID=Asia/Tokyo:20230906T230000
DTSTAMP:20260423T134353
CREATED:20230810T101154Z
LAST-MODIFIED:20230810T101154Z
UID:1841-1694030400-1694041200@bizcampblog.com
SUMMARY:ZOOMグループセッション実施日
DESCRIPTION:
URL:http://bizcampblog.com/event/zoom%e3%82%b0%e3%83%ab%e3%83%bc%e3%83%97%e3%82%bb%e3%83%83%e3%82%b7%e3%83%a7%e3%83%b3%e5%ae%9f%e6%96%bd%e6%97%a5-17/
END:VEVENT
BEGIN:VEVENT
DTSTART;TZID=Asia/Tokyo:20230910T180000
DTEND;TZID=Asia/Tokyo:20230910T210000
DTSTAMP:20260423T134353
CREATED:20230810T101517Z
LAST-MODIFIED:20230810T101517Z
UID:1845-1694368800-1694379600@bizcampblog.com
SUMMARY:Zoomウェビナー
DESCRIPTION:
URL:http://bizcampblog.com/event/zoom%e3%82%a6%e3%82%a7%e3%83%93%e3%83%8a%e3%83%bc-5/
END:VEVENT
BEGIN:VEVENT
DTSTART;TZID=Asia/Tokyo:20230912T200000
DTEND;TZID=Asia/Tokyo:20230913T000000
DTSTAMP:20260423T134353
CREATED:20230810T100725Z
LAST-MODIFIED:20230810T100749Z
UID:1833-1694548800-1694563200@bizcampblog.com
SUMMARY:ZOOMコンサルティング実施日
DESCRIPTION:
URL:http://bizcampblog.com/event/zoom%e3%82%b3%e3%83%b3%e3%82%b5%e3%83%ab%e3%83%86%e3%82%a3%e3%83%b3%e3%82%b0%e5%ae%9f%e6%96%bd%e6%97%a5-56/
END:VEVENT
BEGIN:VEVENT
DTSTART;TZID=Asia/Tokyo:20230916T140000
DTEND;TZID=Asia/Tokyo:20230916T170000
DTSTAMP:20260423T134353
CREATED:20230810T101329Z
LAST-MODIFIED:20230810T101329Z
UID:1843-1694872800-1694883600@bizcampblog.com
SUMMARY:ZOOMグループセッション実施日
DESCRIPTION:
URL:http://bizcampblog.com/event/zoom%e3%82%b0%e3%83%ab%e3%83%bc%e3%83%97%e3%82%bb%e3%83%83%e3%82%b7%e3%83%a7%e3%83%b3%e5%ae%9f%e6%96%bd%e6%97%a5-18/
END:VEVENT
BEGIN:VEVENT
DTSTART;TZID=Asia/Tokyo:20230919T200000
DTEND;TZID=Asia/Tokyo:20230920T000000
DTSTAMP:20260423T134353
CREATED:20230810T100836Z
LAST-MODIFIED:20230810T100836Z
UID:1835-1695153600-1695168000@bizcampblog.com
SUMMARY:ZOOMコンサルティング実施日
DESCRIPTION:
URL:http://bizcampblog.com/event/zoom%e3%82%b3%e3%83%b3%e3%82%b5%e3%83%ab%e3%83%86%e3%82%a3%e3%83%b3%e3%82%b0%e5%ae%9f%e6%96%bd%e6%97%a5-57/
END:VEVENT
BEGIN:VEVENT
DTSTART;TZID=Asia/Tokyo:20230922T200000
DTEND;TZID=Asia/Tokyo:20230923T000000
DTSTAMP:20260423T134353
CREATED:20230810T100909Z
LAST-MODIFIED:20230810T100909Z
UID:1837-1695412800-1695427200@bizcampblog.com
SUMMARY:ZOOMコンサルティング実施日
DESCRIPTION:
URL:http://bizcampblog.com/event/zoom%e3%82%b3%e3%83%b3%e3%82%b5%e3%83%ab%e3%83%86%e3%82%a3%e3%83%b3%e3%82%b0%e5%ae%9f%e6%96%bd%e6%97%a5-58/
END:VEVENT
BEGIN:VEVENT
DTSTART;TZID=Asia/Tokyo:20230930T140000
DTEND;TZID=Asia/Tokyo:20230930T210000
DTSTAMP:20260423T134353
CREATED:20230810T101559Z
LAST-MODIFIED:20230810T101559Z
UID:1847-1696082400-1696107600@bizcampblog.com
SUMMARY:オフライン勉強会・座談会・懇親会
DESCRIPTION:
URL:http://bizcampblog.com/event/%e3%82%aa%e3%83%95%e3%83%a9%e3%82%a4%e3%83%b3%e5%8b%89%e5%bc%b7%e4%bc%9a%e3%83%bb%e5%ba%a7%e8%ab%87%e4%bc%9a%e3%83%bb%e6%87%87%e8%a6%aa%e4%bc%9a-8/
END:VEVENT
END:VCALENDAR