BEGIN:VCALENDAR
VERSION:2.0
PRODID:-//BizCamp - ECPv6.2.4//NONSGML v1.0//EN
CALSCALE:GREGORIAN
METHOD:PUBLISH
X-WR-CALNAME:BizCamp
X-ORIGINAL-URL:http://bizcampblog.com
X-WR-CALDESC:BizCamp のイベント
REFRESH-INTERVAL;VALUE=DURATION:PT1H
X-Robots-Tag:noindex
X-PUBLISHED-TTL:PT1H
BEGIN:VTIMEZONE
TZID:Asia/Tokyo
BEGIN:STANDARD
TZOFFSETFROM:+0900
TZOFFSETTO:+0900
TZNAME:JST
DTSTART:20230101T000000
END:STANDARD
END:VTIMEZONE
BEGIN:VEVENT
DTSTART;TZID=Asia/Tokyo:20230829T200000
DTEND;TZID=Asia/Tokyo:20230830T000000
DTSTAMP:20260420T134146
CREATED:20230707T115822Z
LAST-MODIFIED:20230707T115822Z
UID:1817-1693339200-1693353600@bizcampblog.com
SUMMARY:ZOOMコンサルティング実施日
DESCRIPTION:
URL:http://bizcampblog.com/event/zoom%e3%82%b3%e3%83%b3%e3%82%b5%e3%83%ab%e3%83%86%e3%82%a3%e3%83%b3%e3%82%b0%e5%ae%9f%e6%96%bd%e6%97%a5-54/
END:VEVENT
BEGIN:VEVENT
DTSTART;TZID=Asia/Tokyo:20230826T140000
DTEND;TZID=Asia/Tokyo:20230826T210000
DTSTAMP:20260420T134146
CREATED:20230707T120440Z
LAST-MODIFIED:20230707T120440Z
UID:1825-1693058400-1693083600@bizcampblog.com
SUMMARY:オフライン勉強会・座談会・懇親会
DESCRIPTION:
URL:http://bizcampblog.com/event/%e3%82%aa%e3%83%95%e3%83%a9%e3%82%a4%e3%83%b3%e5%8b%89%e5%bc%b7%e4%bc%9a%e3%83%bb%e5%ba%a7%e8%ab%87%e4%bc%9a%e3%83%bb%e6%87%87%e8%a6%aa%e4%bc%9a-7/
END:VEVENT
BEGIN:VEVENT
DTSTART;TZID=Asia/Tokyo:20230823T200000
DTEND;TZID=Asia/Tokyo:20230823T230000
DTSTAMP:20260420T134146
CREATED:20230707T120015Z
LAST-MODIFIED:20230707T120621Z
UID:1821-1692820800-1692831600@bizcampblog.com
SUMMARY:ZOOMグループセッション実施日
DESCRIPTION:
URL:http://bizcampblog.com/event/zoom%e3%82%b0%e3%83%ab%e3%83%bc%e3%83%97%e3%82%bb%e3%83%83%e3%82%b7%e3%83%a7%e3%83%b3%e5%ae%9f%e6%96%bd%e6%97%a5-16/
END:VEVENT
BEGIN:VEVENT
DTSTART;TZID=Asia/Tokyo:20230821T200000
DTEND;TZID=Asia/Tokyo:20230822T000000
DTSTAMP:20260420T134146
CREATED:20230707T115658Z
LAST-MODIFIED:20230712T081407Z
UID:1815-1692648000-1692662400@bizcampblog.com
SUMMARY:ZOOMコンサルティング実施日
DESCRIPTION:
URL:http://bizcampblog.com/event/zoom%e3%82%b3%e3%83%b3%e3%82%b5%e3%83%ab%e3%83%86%e3%82%a3%e3%83%b3%e3%82%b0%e5%ae%9f%e6%96%bd%e6%97%a5-53/
END:VEVENT
BEGIN:VEVENT
DTSTART;TZID=Asia/Tokyo:20230817T140000
DTEND;TZID=Asia/Tokyo:20230817T170000
DTSTAMP:20260420T134146
CREATED:20230707T115942Z
LAST-MODIFIED:20230707T115942Z
UID:1819-1692280800-1692291600@bizcampblog.com
SUMMARY:ZOOMグループセッション実施日
DESCRIPTION:
URL:http://bizcampblog.com/event/zoom%e3%82%b0%e3%83%ab%e3%83%bc%e3%83%97%e3%82%bb%e3%83%83%e3%82%b7%e3%83%a7%e3%83%b3%e5%ae%9f%e6%96%bd%e6%97%a5-15/
END:VEVENT
BEGIN:VEVENT
DTSTART;TZID=Asia/Tokyo:20230814T200000
DTEND;TZID=Asia/Tokyo:20230815T000000
DTSTAMP:20260420T134146
CREATED:20230707T115604Z
LAST-MODIFIED:20230707T115604Z
UID:1813-1692043200-1692057600@bizcampblog.com
SUMMARY:ZOOMコンサルティング実施日
DESCRIPTION:
URL:http://bizcampblog.com/event/zoom%e3%82%b3%e3%83%b3%e3%82%b5%e3%83%ab%e3%83%86%e3%82%a3%e3%83%b3%e3%82%b0%e5%ae%9f%e6%96%bd%e6%97%a5-52/
END:VEVENT
BEGIN:VEVENT
DTSTART;TZID=Asia/Tokyo:20230812T060000
DTEND;TZID=Asia/Tokyo:20230812T210000
DTSTAMP:20260420T134146
CREATED:20230707T120212Z
LAST-MODIFIED:20230707T120212Z
UID:1823-1691820000-1691874000@bizcampblog.com
SUMMARY:Zoomウェビナー
DESCRIPTION:
URL:http://bizcampblog.com/event/zoom%e3%82%a6%e3%82%a7%e3%83%93%e3%83%8a%e3%83%bc-4/
END:VEVENT
BEGIN:VEVENT
DTSTART;TZID=Asia/Tokyo:20230810T200000
DTEND;TZID=Asia/Tokyo:20230811T000000
DTSTAMP:20260420T134146
CREATED:20230707T115533Z
LAST-MODIFIED:20230707T115533Z
UID:1811-1691697600-1691712000@bizcampblog.com
SUMMARY:ZOOMコンサルティング実施日
DESCRIPTION:
URL:http://bizcampblog.com/event/zoom%e3%82%b3%e3%83%b3%e3%82%b5%e3%83%ab%e3%83%86%e3%82%a3%e3%83%b3%e3%82%b0%e5%ae%9f%e6%96%bd%e6%97%a5-51/
END:VEVENT
BEGIN:VEVENT
DTSTART;TZID=Asia/Tokyo:20230806T200000
DTEND;TZID=Asia/Tokyo:20230807T000000
DTSTAMP:20260420T134146
CREATED:20230707T115451Z
LAST-MODIFIED:20230707T115451Z
UID:1809-1691352000-1691366400@bizcampblog.com
SUMMARY:ZOOMコンサルティング実施日
DESCRIPTION:
URL:http://bizcampblog.com/event/zoom%e3%82%b3%e3%83%b3%e3%82%b5%e3%83%ab%e3%83%86%e3%82%a3%e3%83%b3%e3%82%b0%e5%ae%9f%e6%96%bd%e6%97%a5-50/
END:VEVENT
BEGIN:VEVENT
DTSTART;TZID=Asia/Tokyo:20230803T200000
DTEND;TZID=Asia/Tokyo:20230804T000000
DTSTAMP:20260420T134146
CREATED:20230707T115326Z
LAST-MODIFIED:20230707T115326Z
UID:1807-1691092800-1691107200@bizcampblog.com
SUMMARY:ZOOMコンサルティング実施日
DESCRIPTION:
URL:http://bizcampblog.com/event/zoom%e3%82%b3%e3%83%b3%e3%82%b5%e3%83%ab%e3%83%86%e3%82%a3%e3%83%b3%e3%82%b0%e5%ae%9f%e6%96%bd%e6%97%a5-49/
END:VEVENT
BEGIN:VEVENT
DTSTART;TZID=Asia/Tokyo:20230731T200000
DTEND;TZID=Asia/Tokyo:20230801T000000
DTSTAMP:20260420T134146
CREATED:20230603T110430Z
LAST-MODIFIED:20230603T110430Z
UID:1782-1690833600-1690848000@bizcampblog.com
SUMMARY:ZOOMコンサルティング実施日
DESCRIPTION:
URL:http://bizcampblog.com/event/zoom%e3%82%b3%e3%83%b3%e3%82%b5%e3%83%ab%e3%83%86%e3%82%a3%e3%83%b3%e3%82%b0%e5%ae%9f%e6%96%bd%e6%97%a5-48/
END:VEVENT
BEGIN:VEVENT
DTSTART;TZID=Asia/Tokyo:20230729T140000
DTEND;TZID=Asia/Tokyo:20230729T210000
DTSTAMP:20260420T134146
CREATED:20230603T111203Z
LAST-MODIFIED:20230603T111203Z
UID:1791-1690639200-1690664400@bizcampblog.com
SUMMARY:オフライン勉強会・座談会・懇親会
DESCRIPTION:
URL:http://bizcampblog.com/event/%e3%82%aa%e3%83%95%e3%83%a9%e3%82%a4%e3%83%b3%e5%8b%89%e5%bc%b7%e4%bc%9a%e3%83%bb%e5%ba%a7%e8%ab%87%e4%bc%9a%e3%83%bb%e6%87%87%e8%a6%aa%e4%bc%9a-6/
END:VEVENT
BEGIN:VEVENT
DTSTART;TZID=Asia/Tokyo:20230725T200000
DTEND;TZID=Asia/Tokyo:20230725T230000
DTSTAMP:20260420T134146
CREATED:20230603T110759Z
LAST-MODIFIED:20230603T110759Z
UID:1787-1690315200-1690326000@bizcampblog.com
SUMMARY:ZOOMグループセッション実施日
DESCRIPTION:
URL:http://bizcampblog.com/event/zoom%e3%82%b0%e3%83%ab%e3%83%bc%e3%83%97%e3%82%bb%e3%83%83%e3%82%b7%e3%83%a7%e3%83%b3%e5%ae%9f%e6%96%bd%e6%97%a5-14/
END:VEVENT
BEGIN:VEVENT
DTSTART;TZID=Asia/Tokyo:20230722T200000
DTEND;TZID=Asia/Tokyo:20230722T230000
DTSTAMP:20260420T134146
CREATED:20230603T110710Z
LAST-MODIFIED:20230603T110710Z
UID:1785-1690056000-1690066800@bizcampblog.com
SUMMARY:ZOOMグループセッション実施日
DESCRIPTION:
URL:http://bizcampblog.com/event/zoom%e3%82%b0%e3%83%ab%e3%83%bc%e3%83%97%e3%82%bb%e3%83%83%e3%82%b7%e3%83%a7%e3%83%b3%e5%ae%9f%e6%96%bd%e6%97%a5-13/
END:VEVENT
BEGIN:VEVENT
DTSTART;TZID=Asia/Tokyo:20230719T140000
DTEND;TZID=Asia/Tokyo:20230719T180000
DTSTAMP:20260420T134146
CREATED:20230603T110150Z
LAST-MODIFIED:20230603T110150Z
UID:1779-1689775200-1689789600@bizcampblog.com
SUMMARY:ZOOMコンサルティング実施日
DESCRIPTION:
URL:http://bizcampblog.com/event/zoom%e3%82%b3%e3%83%b3%e3%82%b5%e3%83%ab%e3%83%86%e3%82%a3%e3%83%b3%e3%82%b0%e5%ae%9f%e6%96%bd%e6%97%a5-47/
END:VEVENT
BEGIN:VEVENT
DTSTART;TZID=Asia/Tokyo:20230714T200000
DTEND;TZID=Asia/Tokyo:20230715T000000
DTSTAMP:20260420T134146
CREATED:20230603T110111Z
LAST-MODIFIED:20230603T110111Z
UID:1777-1689364800-1689379200@bizcampblog.com
SUMMARY:ZOOMコンサルティング実施日
DESCRIPTION:
URL:http://bizcampblog.com/event/zoom%e3%82%b3%e3%83%b3%e3%82%b5%e3%83%ab%e3%83%86%e3%82%a3%e3%83%b3%e3%82%b0%e5%ae%9f%e6%96%bd%e6%97%a5-46/
END:VEVENT
BEGIN:VEVENT
DTSTART;TZID=Asia/Tokyo:20230712T200000
DTEND;TZID=Asia/Tokyo:20230712T230000
DTSTAMP:20260420T134146
CREATED:20230603T111034Z
LAST-MODIFIED:20230603T111034Z
UID:1789-1689192000-1689202800@bizcampblog.com
SUMMARY:ZOOM飲み会
DESCRIPTION:
URL:http://bizcampblog.com/event/zoom%e9%a3%b2%e3%81%bf%e4%bc%9a/
END:VEVENT
BEGIN:VEVENT
DTSTART;TZID=Asia/Tokyo:20230711T200000
DTEND;TZID=Asia/Tokyo:20230712T000000
DTSTAMP:20260420T134146
CREATED:20230603T105845Z
LAST-MODIFIED:20230603T105845Z
UID:1775-1689105600-1689120000@bizcampblog.com
SUMMARY:ZOOMコンサルティング実施日
DESCRIPTION:
URL:http://bizcampblog.com/event/zoom%e3%82%b3%e3%83%b3%e3%82%b5%e3%83%ab%e3%83%86%e3%82%a3%e3%83%b3%e3%82%b0%e5%ae%9f%e6%96%bd%e6%97%a5-45/
END:VEVENT
BEGIN:VEVENT
DTSTART;TZID=Asia/Tokyo:20230707T200000
DTEND;TZID=Asia/Tokyo:20230708T000000
DTSTAMP:20260420T134146
CREATED:20230603T105757Z
LAST-MODIFIED:20230603T105757Z
UID:1773-1688760000-1688774400@bizcampblog.com
SUMMARY:ZOOMコンサルティング実施日
DESCRIPTION:
URL:http://bizcampblog.com/event/zoom%e3%82%b3%e3%83%b3%e3%82%b5%e3%83%ab%e3%83%86%e3%82%a3%e3%83%b3%e3%82%b0%e5%ae%9f%e6%96%bd%e6%97%a5-44/
END:VEVENT
BEGIN:VEVENT
DTSTART;TZID=Asia/Tokyo:20230702T200000
DTEND;TZID=Asia/Tokyo:20230703T000000
DTSTAMP:20260420T134146
CREATED:20230603T105523Z
LAST-MODIFIED:20230603T105627Z
UID:1771-1688328000-1688342400@bizcampblog.com
SUMMARY:ZOOMコンサルティング実施日
DESCRIPTION:
URL:http://bizcampblog.com/event/zoom%e3%82%b3%e3%83%b3%e3%82%b5%e3%83%ab%e3%83%86%e3%82%a3%e3%83%b3%e3%82%b0%e5%ae%9f%e6%96%bd%e6%97%a5-43/
END:VEVENT
BEGIN:VEVENT
DTSTART;TZID=Asia/Tokyo:20230627T200000
DTEND;TZID=Asia/Tokyo:20230627T230000
DTSTAMP:20260420T134146
CREATED:20230429T100733Z
LAST-MODIFIED:20230429T100733Z
UID:1760-1687896000-1687906800@bizcampblog.com
SUMMARY:ZOOMグループセッション実施日
DESCRIPTION:
URL:http://bizcampblog.com/event/zoom%e3%82%b0%e3%83%ab%e3%83%bc%e3%83%97%e3%82%bb%e3%83%83%e3%82%b7%e3%83%a7%e3%83%b3%e5%ae%9f%e6%96%bd%e6%97%a5-12/
END:VEVENT
BEGIN:VEVENT
DTSTART;TZID=Asia/Tokyo:20230622T200000
DTEND;TZID=Asia/Tokyo:20230623T000000
DTSTAMP:20260420T134146
CREATED:20230429T100555Z
LAST-MODIFIED:20230429T100555Z
UID:1756-1687464000-1687478400@bizcampblog.com
SUMMARY:ZOOMコンサルティング実施日
DESCRIPTION:
URL:http://bizcampblog.com/event/zoom%e3%82%b3%e3%83%b3%e3%82%b5%e3%83%ab%e3%83%86%e3%82%a3%e3%83%b3%e3%82%b0%e5%ae%9f%e6%96%bd%e6%97%a5-42/
END:VEVENT
BEGIN:VEVENT
DTSTART;TZID=Asia/Tokyo:20230619T200000
DTEND;TZID=Asia/Tokyo:20230620T000000
DTSTAMP:20260420T134146
CREATED:20230429T100531Z
LAST-MODIFIED:20230429T100531Z
UID:1753-1687204800-1687219200@bizcampblog.com
SUMMARY:ZOOMコンサルティング実施日
DESCRIPTION:
URL:http://bizcampblog.com/event/zoom%e3%82%b3%e3%83%b3%e3%82%b5%e3%83%ab%e3%83%86%e3%82%a3%e3%83%b3%e3%82%b0%e5%ae%9f%e6%96%bd%e6%97%a5-41/
END:VEVENT
BEGIN:VEVENT
DTSTART;TZID=Asia/Tokyo:20230617T140000
DTEND;TZID=Asia/Tokyo:20230617T210000
DTSTAMP:20260420T134146
CREATED:20230429T100919Z
LAST-MODIFIED:20230429T100919Z
UID:1763-1687010400-1687035600@bizcampblog.com
SUMMARY:オフライン勉強会・座談会・懇親会
DESCRIPTION:
URL:http://bizcampblog.com/event/%e3%82%aa%e3%83%95%e3%83%a9%e3%82%a4%e3%83%b3%e5%8b%89%e5%bc%b7%e4%bc%9a%e3%83%bb%e5%ba%a7%e8%ab%87%e4%bc%9a%e3%83%bb%e6%87%87%e8%a6%aa%e4%bc%9a-5/
END:VEVENT
BEGIN:VEVENT
DTSTART;TZID=Asia/Tokyo:20230615T140000
DTEND;TZID=Asia/Tokyo:20230615T170000
DTSTAMP:20260420T134146
CREATED:20230429T100707Z
LAST-MODIFIED:20230429T100707Z
UID:1759-1686837600-1686848400@bizcampblog.com
SUMMARY:ZOOMグループセッション実施日
DESCRIPTION:
URL:http://bizcampblog.com/event/zoom%e3%82%b0%e3%83%ab%e3%83%bc%e3%83%97%e3%82%bb%e3%83%83%e3%82%b7%e3%83%a7%e3%83%b3%e5%ae%9f%e6%96%bd%e6%97%a5-11/
END:VEVENT
BEGIN:VEVENT
DTSTART;TZID=Asia/Tokyo:20230612T140000
DTEND;TZID=Asia/Tokyo:20230612T180000
DTSTAMP:20260420T134146
CREATED:20230429T100417Z
LAST-MODIFIED:20230429T100417Z
UID:1752-1686578400-1686592800@bizcampblog.com
SUMMARY:ZOOMコンサルティング実施日
DESCRIPTION:
URL:http://bizcampblog.com/event/zoom%e3%82%b3%e3%83%b3%e3%82%b5%e3%83%ab%e3%83%86%e3%82%a3%e3%83%b3%e3%82%b0%e5%ae%9f%e6%96%bd%e6%97%a5-40/
END:VEVENT
BEGIN:VEVENT
DTSTART;TZID=Asia/Tokyo:20230610T180000
DTEND;TZID=Asia/Tokyo:20230610T210000
DTSTAMP:20260420T134146
CREATED:20230429T101237Z
LAST-MODIFIED:20230429T101237Z
UID:1766-1686420000-1686430800@bizcampblog.com
SUMMARY:Zoomウェビナー
DESCRIPTION:
URL:http://bizcampblog.com/event/zoom%e3%82%a6%e3%82%a7%e3%83%93%e3%83%8a%e3%83%bc-3/
END:VEVENT
BEGIN:VEVENT
DTSTART;TZID=Asia/Tokyo:20230607T200000
DTEND;TZID=Asia/Tokyo:20230608T000000
DTSTAMP:20260420T134146
CREATED:20230429T100312Z
LAST-MODIFIED:20230429T100312Z
UID:1750-1686168000-1686182400@bizcampblog.com
SUMMARY:ZOOMコンサルティング実施日
DESCRIPTION:
URL:http://bizcampblog.com/event/zoom%e3%82%b3%e3%83%b3%e3%82%b5%e3%83%ab%e3%83%86%e3%82%a3%e3%83%b3%e3%82%b0%e5%ae%9f%e6%96%bd%e6%97%a5-39/
END:VEVENT
BEGIN:VEVENT
DTSTART;TZID=Asia/Tokyo:20230604T080000
DTEND;TZID=Asia/Tokyo:20230605T000000
DTSTAMP:20260420T134146
CREATED:20230429T100229Z
LAST-MODIFIED:20230429T100229Z
UID:1748-1685865600-1685923200@bizcampblog.com
SUMMARY:ZOOMコンサルティング実施日
DESCRIPTION:
URL:http://bizcampblog.com/event/zoom%e3%82%b3%e3%83%b3%e3%82%b5%e3%83%ab%e3%83%86%e3%82%a3%e3%83%b3%e3%82%b0%e5%ae%9f%e6%96%bd%e6%97%a5-38/
END:VEVENT
BEGIN:VEVENT
DTSTART;TZID=Asia/Tokyo:20230602T200000
DTEND;TZID=Asia/Tokyo:20230603T000000
DTSTAMP:20260420T134146
CREATED:20230429T095830Z
LAST-MODIFIED:20230429T095830Z
UID:1745-1685736000-1685750400@bizcampblog.com
SUMMARY:ZOOMコンサルティング実施日
DESCRIPTION:
URL:http://bizcampblog.com/event/zoom%e3%82%b3%e3%83%b3%e3%82%b5%e3%83%ab%e3%83%86%e3%82%a3%e3%83%b3%e3%82%b0%e5%ae%9f%e6%96%bd%e6%97%a5-37/
END:VEVENT
END:VCALENDAR