BEGIN:VCALENDAR
VERSION:2.0
PRODID:-//BizCamp - ECPv6.2.4//NONSGML v1.0//EN
CALSCALE:GREGORIAN
METHOD:PUBLISH
X-ORIGINAL-URL:http://bizcampblog.com
X-WR-CALDESC:BizCamp のイベント
REFRESH-INTERVAL;VALUE=DURATION:PT1H
X-Robots-Tag:noindex
X-PUBLISHED-TTL:PT1H
BEGIN:VTIMEZONE
TZID:Asia/Tokyo
BEGIN:STANDARD
TZOFFSETFROM:+0900
TZOFFSETTO:+0900
TZNAME:JST
DTSTART:20230101T000000
END:STANDARD
END:VTIMEZONE
BEGIN:VEVENT
DTSTART;TZID=Asia/Tokyo:20231221T200000
DTEND;TZID=Asia/Tokyo:20231221T230000
DTSTAMP:20260423T190959
CREATED:20231114T061359Z
LAST-MODIFIED:20231114T061359Z
UID:1916-1703188800-1703199600@bizcampblog.com
SUMMARY:ZOOMグループセッション実施日
DESCRIPTION:
URL:http://bizcampblog.com/event/zoom%e3%82%b0%e3%83%ab%e3%83%bc%e3%83%97%e3%82%bb%e3%83%83%e3%82%b7%e3%83%a7%e3%83%b3%e5%ae%9f%e6%96%bd%e6%97%a5-24/
END:VEVENT
BEGIN:VEVENT
DTSTART;TZID=Asia/Tokyo:20231223T140000
DTEND;TZID=Asia/Tokyo:20231223T210000
DTSTAMP:20260423T190959
CREATED:20231114T061636Z
LAST-MODIFIED:20231114T061636Z
UID:1918-1703340000-1703365200@bizcampblog.com
SUMMARY:オフライン勉強会・座談会・懇親会
DESCRIPTION:
URL:http://bizcampblog.com/event/%e3%82%aa%e3%83%95%e3%83%a9%e3%82%a4%e3%83%b3%e5%8b%89%e5%bc%b7%e4%bc%9a%e3%83%bb%e5%ba%a7%e8%ab%87%e4%bc%9a%e3%83%bb%e6%87%87%e8%a6%aa%e4%bc%9a-11/
END:VEVENT
BEGIN:VEVENT
DTSTART;TZID=Asia/Tokyo:20231226T200000
DTEND;TZID=Asia/Tokyo:20231227T000000
DTSTAMP:20260423T190959
CREATED:20231114T060837Z
LAST-MODIFIED:20231114T060837Z
UID:1910-1703620800-1703635200@bizcampblog.com
SUMMARY:ZOOMコンサルティング実施日
DESCRIPTION:
URL:http://bizcampblog.com/event/zoom%e3%82%b3%e3%83%b3%e3%82%b5%e3%83%ab%e3%83%86%e3%82%a3%e3%83%b3%e3%82%b0%e5%ae%9f%e6%96%bd%e6%97%a5-68/
END:VEVENT
END:VCALENDAR