BEGIN:VCALENDAR
VERSION:2.0
PRODID:-//BizCamp - ECPv6.2.4//NONSGML v1.0//EN
CALSCALE:GREGORIAN
METHOD:PUBLISH
X-WR-CALNAME:BizCamp
X-ORIGINAL-URL:http://bizcampblog.com
X-WR-CALDESC:BizCamp のイベント
REFRESH-INTERVAL;VALUE=DURATION:PT1H
X-Robots-Tag:noindex
X-PUBLISHED-TTL:PT1H
BEGIN:VTIMEZONE
TZID:Asia/Tokyo
BEGIN:STANDARD
TZOFFSETFROM:+0900
TZOFFSETTO:+0900
TZNAME:JST
DTSTART:20220101T000000
END:STANDARD
END:VTIMEZONE
BEGIN:VEVENT
DTSTART;TZID=Asia/Tokyo:20220925T103000
DTEND;TZID=Asia/Tokyo:20220925T180000
DTSTAMP:20260421T054138
CREATED:20220915T024109Z
LAST-MODIFIED:20220915T024109Z
UID:1496-1664101800-1664128800@bizcampblog.com
SUMMARY:オフライン勉強会・座談会・懇親会
DESCRIPTION:
URL:http://bizcampblog.com/event/20220925/
END:VEVENT
BEGIN:VEVENT
DTSTART;TZID=Asia/Tokyo:20220924T100000
DTEND;TZID=Asia/Tokyo:20220924T180000
DTSTAMP:20260421T054138
CREATED:20220915T025026Z
LAST-MODIFIED:20220915T025026Z
UID:1510-1664013600-1664042400@bizcampblog.com
SUMMARY:オフライン作業合宿
DESCRIPTION:
URL:http://bizcampblog.com/event/20220924/
END:VEVENT
BEGIN:VEVENT
DTSTART;TZID=Asia/Tokyo:20220921T200000
DTEND;TZID=Asia/Tokyo:20220922T000500
DTSTAMP:20260421T054138
CREATED:20220915T023943Z
LAST-MODIFIED:20220915T024458Z
UID:1494-1663790400-1663805100@bizcampblog.com
SUMMARY:ZOOMコンサルティング実施日
DESCRIPTION:
URL:http://bizcampblog.com/event/20220921/
END:VEVENT
BEGIN:VEVENT
DTSTART;TZID=Asia/Tokyo:20220919T200000
DTEND;TZID=Asia/Tokyo:20220919T230000
DTSTAMP:20260421T054138
CREATED:20220915T023800Z
LAST-MODIFIED:20220915T023800Z
UID:1492-1663617600-1663628400@bizcampblog.com
SUMMARY:ZOOMグループセッション実施日
DESCRIPTION:
URL:http://bizcampblog.com/event/20220919/
END:VEVENT
BEGIN:VEVENT
DTSTART;TZID=Asia/Tokyo:20220918T140000
DTEND;TZID=Asia/Tokyo:20220918T200000
DTSTAMP:20260421T054138
CREATED:20220915T025244Z
LAST-MODIFIED:20220915T025303Z
UID:1514-1663509600-1663531200@bizcampblog.com
SUMMARY:オンライン作業会
DESCRIPTION:
URL:http://bizcampblog.com/event/20220918/
END:VEVENT
BEGIN:VEVENT
DTSTART;TZID=Asia/Tokyo:20220917T200000
DTEND;TZID=Asia/Tokyo:20220918T000500
DTSTAMP:20260421T054138
CREATED:20220915T024835Z
LAST-MODIFIED:20220915T024835Z
UID:1508-1663444800-1663459500@bizcampblog.com
SUMMARY:ZOOMコンサルティング実施日
DESCRIPTION:
URL:http://bizcampblog.com/event/20220917/
END:VEVENT
BEGIN:VEVENT
DTSTART;TZID=Asia/Tokyo:20220914T200000
DTEND;TZID=Asia/Tokyo:20220915T000500
DTSTAMP:20260421T054138
CREATED:20220915T023231Z
LAST-MODIFIED:20220915T023638Z
UID:1484-1663185600-1663200300@bizcampblog.com
SUMMARY:ZOOMコンサルティング実施日
DESCRIPTION:
URL:http://bizcampblog.com/event/20220914/
END:VEVENT
BEGIN:VEVENT
DTSTART;TZID=Asia/Tokyo:20220911T180000
DTEND;TZID=Asia/Tokyo:20220911T210000
DTSTAMP:20260421T054138
CREATED:20220915T023114Z
LAST-MODIFIED:20220915T023621Z
UID:1481-1662919200-1662930000@bizcampblog.com
SUMMARY:1万円稼ぐためのコンセプト・商品づくりウェビナー
DESCRIPTION:
URL:http://bizcampblog.com/event/20220911/
END:VEVENT
BEGIN:VEVENT
DTSTART;TZID=Asia/Tokyo:20220910T140000
DTEND;TZID=Asia/Tokyo:20220910T170000
DTSTAMP:20260421T054138
CREATED:20220915T023000Z
LAST-MODIFIED:20220915T023607Z
UID:1479-1662818400-1662829200@bizcampblog.com
SUMMARY:koji×玉井トークライブセミナー
DESCRIPTION:
URL:http://bizcampblog.com/event/20220910/
END:VEVENT
BEGIN:VEVENT
DTSTART;TZID=Asia/Tokyo:20220909T080000
DTEND;TZID=Asia/Tokyo:20220910T000500
DTSTAMP:20260421T054138
CREATED:20220915T022844Z
LAST-MODIFIED:20220915T023551Z
UID:1477-1662710400-1662768300@bizcampblog.com
SUMMARY:ZOOMコンサルティング実施日
DESCRIPTION:
URL:http://bizcampblog.com/event/20220909/
END:VEVENT
BEGIN:VEVENT
DTSTART;TZID=Asia/Tokyo:20220906T200000
DTEND;TZID=Asia/Tokyo:20220907T000500
DTSTAMP:20260421T054138
CREATED:20220915T024745Z
LAST-MODIFIED:20220915T024745Z
UID:1506-1662494400-1662509100@bizcampblog.com
SUMMARY:ZOOMコンサルティング実施日
DESCRIPTION:
URL:http://bizcampblog.com/event/20220906/
END:VEVENT
BEGIN:VEVENT
DTSTART;TZID=Asia/Tokyo:20220903T200000
DTEND;TZID=Asia/Tokyo:20220903T230000
DTSTAMP:20260421T054138
CREATED:20220915T022156Z
LAST-MODIFIED:20220915T023859Z
UID:1475-1662235200-1662246000@bizcampblog.com
SUMMARY:ZOOMグループセッション実施日
DESCRIPTION:
URL:http://bizcampblog.com/event/20220903/
END:VEVENT
BEGIN:VEVENT
DTSTART;TZID=Asia/Tokyo:20220903T140000
DTEND;TZID=Asia/Tokyo:20220903T200000
DTSTAMP:20260421T054138
CREATED:20220915T025144Z
LAST-MODIFIED:20220915T025144Z
UID:1512-1662213600-1662235200@bizcampblog.com
SUMMARY:オンライン作業会
DESCRIPTION:
URL:http://bizcampblog.com/event/20220903-2/
END:VEVENT
BEGIN:VEVENT
DTSTART;TZID=Asia/Tokyo:20220831T200000
DTEND;TZID=Asia/Tokyo:20220831T230000
DTSTAMP:20260421T054138
CREATED:20220915T021003Z
LAST-MODIFIED:20220915T024655Z
UID:1469-1661976000-1661986800@bizcampblog.com
SUMMARY:ZOOMグループセッション実施日
DESCRIPTION:
URL:http://bizcampblog.com/event/20220831/
END:VEVENT
BEGIN:VEVENT
DTSTART;TZID=Asia/Tokyo:20220827T103000
DTEND;TZID=Asia/Tokyo:20220827T180000
DTSTAMP:20260421T054138
CREATED:20220915T020651Z
LAST-MODIFIED:20220915T023504Z
UID:1467-1661596200-1661623200@bizcampblog.com
SUMMARY:本気の事業構築合宿＠大阪
DESCRIPTION:
URL:http://bizcampblog.com/event/20220827/
END:VEVENT
END:VCALENDAR