BEGIN:VCALENDAR
VERSION:2.0
PRODID:-//BizCamp - ECPv6.2.4//NONSGML v1.0//EN
CALSCALE:GREGORIAN
METHOD:PUBLISH
X-ORIGINAL-URL:http://bizcampblog.com
X-WR-CALDESC:BizCamp のイベント
REFRESH-INTERVAL;VALUE=DURATION:PT1H
X-Robots-Tag:noindex
X-PUBLISHED-TTL:PT1H
BEGIN:VTIMEZONE
TZID:Asia/Tokyo
BEGIN:STANDARD
TZOFFSETFROM:+0900
TZOFFSETTO:+0900
TZNAME:JST
DTSTART:20220101T000000
END:STANDARD
END:VTIMEZONE
BEGIN:VEVENT
DTSTART;TZID=Asia/Tokyo:20221126T140000
DTEND;TZID=Asia/Tokyo:20221126T180000
DTSTAMP:20260420T155038
CREATED:20220927T094913Z
LAST-MODIFIED:20221110T130106Z
UID:1540-1669471200-1669485600@bizcampblog.com
SUMMARY:オフライン勉強会・座談会・懇親会
DESCRIPTION:
URL:http://bizcampblog.com/event/20221126/
END:VEVENT
BEGIN:VEVENT
DTSTART;TZID=Asia/Tokyo:20221124T200000
DTEND;TZID=Asia/Tokyo:20221125T000500
DTSTAMP:20260420T155038
CREATED:20220927T094209Z
LAST-MODIFIED:20220927T094228Z
UID:1530-1669320000-1669334700@bizcampblog.com
SUMMARY:ZOOMコンサルティング実施日
DESCRIPTION:
URL:http://bizcampblog.com/event/20221124/
END:VEVENT
BEGIN:VEVENT
DTSTART;TZID=Asia/Tokyo:20221122T200000
DTEND;TZID=Asia/Tokyo:20221122T230000
DTSTAMP:20260420T155038
CREATED:20220927T094440Z
LAST-MODIFIED:20220927T094511Z
UID:1534-1669147200-1669158000@bizcampblog.com
SUMMARY:ZOOMグループセッション実施日
DESCRIPTION:
URL:http://bizcampblog.com/event/20221122/
END:VEVENT
BEGIN:VEVENT
DTSTART;TZID=Asia/Tokyo:20221119T200000
DTEND;TZID=Asia/Tokyo:20221119T230000
DTSTAMP:20260420T155038
CREATED:20220927T094620Z
LAST-MODIFIED:20220927T094638Z
UID:1536-1668888000-1668898800@bizcampblog.com
SUMMARY:ZOOMグループセッション実施日
DESCRIPTION:
URL:http://bizcampblog.com/event/20221119/
END:VEVENT
BEGIN:VEVENT
DTSTART;TZID=Asia/Tokyo:20221117T200000
DTEND;TZID=Asia/Tokyo:20221118T000500
DTSTAMP:20260420T155038
CREATED:20221110T125806Z
LAST-MODIFIED:20221110T125806Z
UID:1603-1668715200-1668729900@bizcampblog.com
SUMMARY:ZOOMコンサルティング実施日
DESCRIPTION:
URL:http://bizcampblog.com/event/zoom%e3%82%b3%e3%83%b3%e3%82%b5%e3%83%ab%e3%83%86%e3%82%a3%e3%83%b3%e3%82%b0%e5%ae%9f%e6%96%bd%e6%97%a5-3/
END:VEVENT
BEGIN:VEVENT
DTSTART;TZID=Asia/Tokyo:20221116T200000
DTEND;TZID=Asia/Tokyo:20221117T000500
DTSTAMP:20260420T155038
CREATED:20220927T094044Z
LAST-MODIFIED:20220927T094122Z
UID:1528-1668628800-1668643500@bizcampblog.com
SUMMARY:ZOOMコンサルティング実施日
DESCRIPTION:
URL:http://bizcampblog.com/event/20221116/
END:VEVENT
BEGIN:VEVENT
DTSTART;TZID=Asia/Tokyo:20221113T200000
DTEND;TZID=Asia/Tokyo:20221114T000500
DTSTAMP:20260420T155038
CREATED:20221110T125557Z
LAST-MODIFIED:20221110T125731Z
UID:1601-1668369600-1668384300@bizcampblog.com
SUMMARY:ZOOMコンサルティング実施日
DESCRIPTION:
URL:http://bizcampblog.com/event/zoom%e3%82%b3%e3%83%b3%e3%82%b5%e3%83%ab%e3%83%86%e3%82%a3%e3%83%b3%e3%82%b0%e5%ae%9f%e6%96%bd%e6%97%a5-2/
END:VEVENT
BEGIN:VEVENT
DTSTART;TZID=Asia/Tokyo:20221112T180000
DTEND;TZID=Asia/Tokyo:20221112T210000
DTSTAMP:20260420T155038
CREATED:20220927T094823Z
LAST-MODIFIED:20220927T094823Z
UID:1538-1668276000-1668286800@bizcampblog.com
SUMMARY:Zoomウェビナー
DESCRIPTION:
URL:http://bizcampblog.com/event/20221112/
END:VEVENT
BEGIN:VEVENT
DTSTART;TZID=Asia/Tokyo:20221110T200000
DTEND;TZID=Asia/Tokyo:20221111T000500
DTSTAMP:20260420T155038
CREATED:20220927T094002Z
LAST-MODIFIED:20220927T094002Z
UID:1526-1668110400-1668125100@bizcampblog.com
SUMMARY:ZOOMコンサルティング実施日
DESCRIPTION:
URL:http://bizcampblog.com/event/20221110/
END:VEVENT
BEGIN:VEVENT
DTSTART;TZID=Asia/Tokyo:20221106T200000
DTEND;TZID=Asia/Tokyo:20221107T000500
DTSTAMP:20260420T155038
CREATED:20220927T093544Z
LAST-MODIFIED:20220927T093900Z
UID:1524-1667764800-1667779500@bizcampblog.com
SUMMARY:ZOOMコンサルティング実施日
DESCRIPTION:
URL:http://bizcampblog.com/event/20221106/
END:VEVENT
BEGIN:VEVENT
DTSTART;TZID=Asia/Tokyo:20221102T200000
DTEND;TZID=Asia/Tokyo:20221103T000500
DTSTAMP:20260420T155038
CREATED:20220927T093328Z
LAST-MODIFIED:20220927T093837Z
UID:1520-1667419200-1667433900@bizcampblog.com
SUMMARY:ZOOMコンサルティング実施日
DESCRIPTION:
URL:http://bizcampblog.com/event/20221102/
END:VEVENT
BEGIN:VEVENT
DTSTART;TZID=Asia/Tokyo:20221030T140000
DTEND;TZID=Asia/Tokyo:20221030T200000
DTSTAMP:20260420T155038
CREATED:20220927T100428Z
LAST-MODIFIED:20220927T100441Z
UID:1564-1667138400-1667160000@bizcampblog.com
SUMMARY:web作業会
DESCRIPTION:
URL:http://bizcampblog.com/event/20221030/
END:VEVENT
BEGIN:VEVENT
DTSTART;TZID=Asia/Tokyo:20221029T200000
DTEND;TZID=Asia/Tokyo:20221030T000500
DTSTAMP:20260420T155038
CREATED:20220927T095801Z
LAST-MODIFIED:20220927T095801Z
UID:1552-1667073600-1667088300@bizcampblog.com
SUMMARY:ZOOMコンサルティング実施日
DESCRIPTION:
URL:http://bizcampblog.com/event/20221029/
END:VEVENT
BEGIN:VEVENT
DTSTART;TZID=Asia/Tokyo:20221026T200000
DTEND;TZID=Asia/Tokyo:20221027T000500
DTSTAMP:20260420T155038
CREATED:20220927T095659Z
LAST-MODIFIED:20220927T095659Z
UID:1550-1666814400-1666829100@bizcampblog.com
SUMMARY:ZOOMコンサルティング実施日
DESCRIPTION:
URL:http://bizcampblog.com/event/20221026/
END:VEVENT
BEGIN:VEVENT
DTSTART;TZID=Asia/Tokyo:20221022T130000
DTEND;TZID=Asia/Tokyo:20221022T180000
DTSTAMP:20260420T155038
CREATED:20220927T100139Z
LAST-MODIFIED:20220927T100156Z
UID:1558-1666443600-1666461600@bizcampblog.com
SUMMARY:オフライン勉強会・座談会・懇親会
DESCRIPTION:
URL:http://bizcampblog.com/event/20221022/
END:VEVENT
BEGIN:VEVENT
DTSTART;TZID=Asia/Tokyo:20221020T200000
DTEND;TZID=Asia/Tokyo:20221021T000500
DTSTAMP:20260420T155038
CREATED:20220927T095554Z
LAST-MODIFIED:20220927T095554Z
UID:1548-1666296000-1666310700@bizcampblog.com
SUMMARY:ZOOMコンサルティング実施日
DESCRIPTION:
URL:http://bizcampblog.com/event/zoom%e3%82%b3%e3%83%b3%e3%82%b5%e3%83%ab%e3%83%86%e3%82%a3%e3%83%b3%e3%82%b0%e5%ae%9f%e6%96%bd%e6%97%a5/
END:VEVENT
BEGIN:VEVENT
DTSTART;TZID=Asia/Tokyo:20221019T200000
DTEND;TZID=Asia/Tokyo:20221019T230000
DTSTAMP:20260420T155038
CREATED:20220927T095955Z
LAST-MODIFIED:20220927T095955Z
UID:1556-1666209600-1666220400@bizcampblog.com
SUMMARY:ZOOMグループセッション実施日
DESCRIPTION:
URL:http://bizcampblog.com/event/20221019/
END:VEVENT
BEGIN:VEVENT
DTSTART;TZID=Asia/Tokyo:20221014T200000
DTEND;TZID=Asia/Tokyo:20221014T230000
DTSTAMP:20260420T155038
CREATED:20220927T095849Z
LAST-MODIFIED:20220927T100027Z
UID:1554-1665777600-1665788400@bizcampblog.com
SUMMARY:ZOOMグループセッション実施日
DESCRIPTION:
URL:http://bizcampblog.com/event/20221014/
END:VEVENT
BEGIN:VEVENT
DTSTART;TZID=Asia/Tokyo:20221011T200000
DTEND;TZID=Asia/Tokyo:20221012T000500
DTSTAMP:20260420T155038
CREATED:20220927T095500Z
LAST-MODIFIED:20220927T095516Z
UID:1546-1665518400-1665533100@bizcampblog.com
SUMMARY:ZOOMコンサルティング実施日
DESCRIPTION:
URL:http://bizcampblog.com/event/20221011/
END:VEVENT
BEGIN:VEVENT
DTSTART;TZID=Asia/Tokyo:20221008T180000
DTEND;TZID=Asia/Tokyo:20221008T210000
DTSTAMP:20260420T155038
CREATED:20220927T100247Z
LAST-MODIFIED:20220927T100247Z
UID:1560-1665252000-1665262800@bizcampblog.com
SUMMARY:Instagramゼロイチウェビナー
DESCRIPTION:
URL:http://bizcampblog.com/event/instagram%e3%82%bc%e3%83%ad%e3%82%a4%e3%83%81%e3%82%a6%e3%82%a7%e3%83%93%e3%83%8a%e3%83%bc/
END:VEVENT
BEGIN:VEVENT
DTSTART;TZID=Asia/Tokyo:20221006T200000
DTEND;TZID=Asia/Tokyo:20221007T000500
DTSTAMP:20260420T155038
CREATED:20220927T095400Z
LAST-MODIFIED:20220927T100536Z
UID:1544-1665086400-1665101100@bizcampblog.com
SUMMARY:ZOOMコンサルティング実施日
DESCRIPTION:
URL:http://bizcampblog.com/event/20221006/
END:VEVENT
BEGIN:VEVENT
DTSTART;TZID=Asia/Tokyo:20221002T200000
DTEND;TZID=Asia/Tokyo:20221003T000500
DTSTAMP:20260420T155038
CREATED:20220915T024353Z
LAST-MODIFIED:20220915T024429Z
UID:1500-1664740800-1664755500@bizcampblog.com
SUMMARY:ZOOMコンサルティング実施日
DESCRIPTION:
URL:http://bizcampblog.com/event/20221002/
END:VEVENT
BEGIN:VEVENT
DTSTART;TZID=Asia/Tokyo:20221002T140000
DTEND;TZID=Asia/Tokyo:20221002T200000
DTSTAMP:20260420T155038
CREATED:20220927T100354Z
LAST-MODIFIED:20220927T100354Z
UID:1562-1664719200-1664740800@bizcampblog.com
SUMMARY:web作業会
DESCRIPTION:
URL:http://bizcampblog.com/event/20221002-2/
END:VEVENT
BEGIN:VEVENT
DTSTART;TZID=Asia/Tokyo:20220928T200000
DTEND;TZID=Asia/Tokyo:20220929T000500
DTSTAMP:20260420T155038
CREATED:20220915T024231Z
LAST-MODIFIED:20220915T024443Z
UID:1498-1664395200-1664409900@bizcampblog.com
SUMMARY:ZOOMコンサルティング実施日
DESCRIPTION:
URL:http://bizcampblog.com/event/20220928/
END:VEVENT
BEGIN:VEVENT
DTSTART;TZID=Asia/Tokyo:20220925T103000
DTEND;TZID=Asia/Tokyo:20220925T180000
DTSTAMP:20260420T155038
CREATED:20220915T024109Z
LAST-MODIFIED:20220915T024109Z
UID:1496-1664101800-1664128800@bizcampblog.com
SUMMARY:オフライン勉強会・座談会・懇親会
DESCRIPTION:
URL:http://bizcampblog.com/event/20220925/
END:VEVENT
BEGIN:VEVENT
DTSTART;TZID=Asia/Tokyo:20220924T100000
DTEND;TZID=Asia/Tokyo:20220924T180000
DTSTAMP:20260420T155038
CREATED:20220915T025026Z
LAST-MODIFIED:20220915T025026Z
UID:1510-1664013600-1664042400@bizcampblog.com
SUMMARY:オフライン作業合宿
DESCRIPTION:
URL:http://bizcampblog.com/event/20220924/
END:VEVENT
BEGIN:VEVENT
DTSTART;TZID=Asia/Tokyo:20220921T200000
DTEND;TZID=Asia/Tokyo:20220922T000500
DTSTAMP:20260420T155038
CREATED:20220915T023943Z
LAST-MODIFIED:20220915T024458Z
UID:1494-1663790400-1663805100@bizcampblog.com
SUMMARY:ZOOMコンサルティング実施日
DESCRIPTION:
URL:http://bizcampblog.com/event/20220921/
END:VEVENT
BEGIN:VEVENT
DTSTART;TZID=Asia/Tokyo:20220919T200000
DTEND;TZID=Asia/Tokyo:20220919T230000
DTSTAMP:20260420T155038
CREATED:20220915T023800Z
LAST-MODIFIED:20220915T023800Z
UID:1492-1663617600-1663628400@bizcampblog.com
SUMMARY:ZOOMグループセッション実施日
DESCRIPTION:
URL:http://bizcampblog.com/event/20220919/
END:VEVENT
BEGIN:VEVENT
DTSTART;TZID=Asia/Tokyo:20220918T140000
DTEND;TZID=Asia/Tokyo:20220918T200000
DTSTAMP:20260420T155038
CREATED:20220915T025244Z
LAST-MODIFIED:20220915T025303Z
UID:1514-1663509600-1663531200@bizcampblog.com
SUMMARY:オンライン作業会
DESCRIPTION:
URL:http://bizcampblog.com/event/20220918/
END:VEVENT
BEGIN:VEVENT
DTSTART;TZID=Asia/Tokyo:20220917T200000
DTEND;TZID=Asia/Tokyo:20220918T000500
DTSTAMP:20260420T155038
CREATED:20220915T024835Z
LAST-MODIFIED:20220915T024835Z
UID:1508-1663444800-1663459500@bizcampblog.com
SUMMARY:ZOOMコンサルティング実施日
DESCRIPTION:
URL:http://bizcampblog.com/event/20220917/
END:VEVENT
END:VCALENDAR